BEGIN:VCALENDAR
VERSION:2.0
PRODID:-//Tukios.com/
BEGIN:VEVENT
UID:38ff10c7-0faa-42f2-b22d-06dfee00826c@www.nicklemortuary.com
DTSTAMP:20260421T000121Z
DTSTART:20260425T173000Z
DTEND:20260425T183000Z
SUMMARY:Graveside Service
DESCRIPTION:
URL:https://www.nicklemortuary.com/obituaries/margaret-marie-stanworth
LOCATION:Oasis Cemetery 1700 West 3100 South  Delta UT 84624
GEO:39.3521777;-112.57717
END:VEVENT
END:VCALENDAR