BEGIN:VCALENDAR
VERSION:2.0
PRODID:-//Tukios.com/
BEGIN:VEVENT
UID:df3147d7-3bdd-4ce8-8d5c-016dd1724de8@www.nicklemortuary.com
DTSTAMP:20260420T235637Z
DTSTART:20260425T153000Z
DTEND:20260425T170000Z
SUMMARY:Viewing
DESCRIPTION:
URL:https://www.nicklemortuary.com/obituaries/margaret-marie-stanworth
LOCATION:Nickle Mortuary 190 S Center St  Delta UT 84624
GEO:39.3494626;-112.5753773
END:VEVENT
END:VCALENDAR